Workbook

Sheet Info
A1: Infografika 7: Analýza citlivosti při různých mírách dodržování doporučení ve školách a přetrvání změn ve stravovacích návycích
A2: Podnadpis: Model pracuje s dospělou populací a odhaduje snížení incidence onemocnění a výdajů na zdravotní péči a počet získaných QALY během simulovaného desetiletého období. Hodnoty představují průměr ze 100 simulací modelu.

Sheet infographic
A1: Citlivostní analýza: přetrvávání účinku a dosah vyhlášky
A2: Sloupce znázorňují změnu průměrného výsledku oproti základnímu scénáři (přetrvávání 35 %, dosah 80 %). Uvedené hodnoty jsou průměry ze 100 simulací.
A4: Celkové snížení incidence (%)
A5: Základní scénář
A6: 0.606 [0.505; 0.708] %
A9: Parametr | B9: Dolní scénář | C9: Základní scénář | D9: Horní scénář
A10: =chart_data!B2 -> Přetrvání účinku | B10: =chart_data!C2 -> 0.43527967 | C10: =chart_data!D2 -> 0.60569526 | D10: =chart_data!E2 -> 0.86625521
A11: =chart_data!B3 -> Dosah vyhlášky | B11: =chart_data!C3 -> 0.37744895 | C11: =chart_data!D3 -> 0.60569526 | D11: =chart_data!E3 -> 0.7606291
A13: Dolní a horní scénář označují nižší a vyšší hodnotu příslušného parametru. 95% intervaly nejistoty jsou uvedeny na listu data_unpivoted.
A23: Celkové diskontované získané QALY
A24: Základní scénář
A25: 3,534.528 [2,491.789; 4,725.130] QALY
A28: Parametr | B28: Dolní scénář | C28: Základní scénář | D28: Horní scénář
A29: =chart_data!B4 -> Přetrvání účinku | B29: =chart_data!C4 -> 2561.5055 | C29: =chart_data!D4 -> 3534.528 | D29: =chart_data!E4 -> 5111.9572
A30: =chart_data!B5 -> Dosah vyhlášky | B30: =chart_data!C5 -> 2229.6361 | C30: =chart_data!D5 -> 3534.528 | D30: =chart_data!E5 -> 4476.054
A32: Dolní a horní scénář označují nižší a vyšší hodnotu příslušného parametru. 95% intervaly nejistoty jsou uvedeny na listu data_unpivoted.
A42: Diskontované úspory ve zdravotnictví (mil. Kč roku 2025)
A43: Základní scénář
A44: 523.828 [440.132; 604.018] mil. Kč roku 2025
A47: Parametr | B47: Dolní scénář | C47: Základní scénář | D47: Horní scénář
A48: =chart_data!B6 -> Přetrvání účinku | B48: =chart_data!C6 -> 375.97151 | C48: =chart_data!D6 -> 523.82775 | D48: =chart_data!E6 -> 751.72747
A49: =chart_data!B7 -> Dosah vyhlášky | B49: =chart_data!C7 -> 325.64144 | C49: =chart_data!D7 -> 523.82775 | D49: =chart_data!E7 -> 660.03743
A51: Dolní a horní scénář označují nižší a vyšší hodnotu příslušného parametru. 95% intervaly nejistoty jsou uvedeny na listu data_unpivoted.

Sheet Skicy
A1: Formátování obdobně jako pro vizz 3, ale dej grafy pod sebe (vertikalne) oproti skice
A2: Tohle zobrazení je sice rozdílné od původního návrh, ale domnívám se, že pro cílové publikum bude srozumitelnějí.

Sheet data_unpivoted
A1: Výsledek | B1: Parametr | C1: Hodnota parametru | D1: Typ scénáře | E1: Typ odhadu | F1: Hodnota | G1: Jednotka
A2: Celkové snížení incidence | B2: Přetrvání účinku | C2: 25 % | D2: Dolní | E2: Průměr | F2: 0.43527967 | G2: %
A3: Celkové snížení incidence | B3: Přetrvávání účinku | C3: 25 % | D3: Dolní | E3: Dolní mez 95% UI | F3: 0.36665609 | G3: %
A4: Celkové snížení incidence | B4: Přetrvávání účinku | C4: 25 % | D4: Dolní | E4: Horní mez 95% UI | F4: 0.51418853 | G4: %
A5: Celkové snížení incidence | B5: Přetrvání účinku | C5: 35 % | D5: Baseline | E5: Průměr | F5: 0.60569526 | G5: %
A6: Celkové snížení incidence | B6: Přetrvávání účinku | C6: 35 % | D6: Baseline | E6: Dolní mez 95% UI | F6: 0.50464811 | G6: %
A7: Celkové snížení incidence | B7: Přetrvávání účinku | C7: 35 % | D7: Baseline | E7: Horní mez 95% UI | F7: 0.70768949 | G7: %
A8: Celkové snížení incidence | B8: Přetrvání účinku | C8: 50 % | D8: Horní | E8: Průměr | F8: 0.86625521 | G8: %
A9: Celkové snížení incidence | B9: Přetrvávání účinku | C9: 50 % | D9: Horní | E9: Dolní mez 95% UI | F9: 0.73170382 | G9: %
A10: Celkové snížení incidence | B10: Přetrvávání účinku | C10: 50 % | D10: Horní | E10: Horní mez 95% UI | F10: 0.99285586 | G10: %
A11: Celkové snížení incidence | B11: Dosah vyhlášky | C11: 50 % | D11: Dolní | E11: Průměr | F11: 0.37744895 | G11: %
A12: Celkové snížení incidence | B12: Dosah vyhlášky | C12: 50 % | D12: Dolní | E12: Dolní mez 95% UI | F12: 0.31229068 | G12: %
A13: Celkové snížení incidence | B13: Dosah vyhlášky | C13: 50 % | D13: Dolní | E13: Horní mez 95% UI | F13: 0.44760862 | G13: %
... A55: Diskontované úspory ve zdravotnictví | B55: Dosah vyhlášky | C55: 100 % | D55: Horní | E55: Horní mez 95% UI | F55: 752.20423 | G55: mil. Kč roku 2025

Sheet chart_data
A1: Výsledek | B1: Parametr | C1: Dolní scénář | D1: Baseline scénář | E1: Horní scénář | F1: Dolní změna | G1: Horní změna | H1: Dolní hodnota parametru | I1: Základní hodnota parametru | J1: Horní hodnota parametru | K1: Jednotka
A2: Celkové snížení incidence | B2: Přetrvání účinku | C2: =data_unpivoted!F2 -> 0.43527967 | D2: =data_unpivoted!F5 -> 0.60569526 | E2: =data_unpivoted!F8 -> 0.86625521 | F2: =C2-D2 -> -0.17041559 | G2: =E2-D2 -> 0.26055995 | H2: 25 % | I2: 35 % | J2: 50 % | K2: %
A3: Celkové snížení incidence | B3: Dosah vyhlášky | C3: =data_unpivoted!F11 -> 0.37744895 | D3: =data_unpivoted!F14 -> 0.60569526 | E3: =data_unpivoted!F17 -> 0.7606291 | F3: =C3-D3 -> -0.2282463 | G3: =E3-D3 -> 0.15493385 | H3: 50 % | I3: 80 % | J3: 100 % | K3: %
A4: Celkové diskontované získané QALY | B4: Přetrvání účinku | C4: =data_unpivoted!F20 -> 2561.5055 | D4: =data_unpivoted!F23 -> 3534.528 | E4: =data_unpivoted!F26 -> 5111.9572 | F4: =C4-D4 -> -973.0225 | G4: =E4-D4 -> 1577.4292 | H4: 25 % | I4: 35 % | J4: 50 % | K4: QALY
A5: Celkové diskontované získané QALY | B5: Dosah vyhlášky | C5: =data_unpivoted!F29 -> 2229.6361 | D5: =data_unpivoted!F32 -> 3534.528 | E5: =data_unpivoted!F35 -> 4476.054 | F5: =C5-D5 -> -1304.8919 | G5: =E5-D5 -> 941.52602 | H5: 50 % | I5: 80 % | J5: 100 % | K5: QALY
A6: Diskontované úspory ve zdravotnictví | B6: Přetrvání účinku | C6: =data_unpivoted!F38 -> 375.97151 | D6: =data_unpivoted!F41 -> 523.82775 | E6: =data_unpivoted!F44 -> 751.72747 | F6: =C6-D6 -> -147.85625 | G6: =E6-D6 -> 227.89972 | H6: 25 % | I6: 35 % | J6: 50 % | K6: mil. Kč roku 2025
A7: Diskontované úspory ve zdravotnictví | B7: Dosah vyhlášky | C7: =data_unpivoted!F47 -> 325.64144 | D7: =data_unpivoted!F50 -> 523.82775 | E7: =data_unpivoted!F53 -> 660.03743 | F7: =C7-D7 -> -198.18632 | G7: =E7-D7 -> 136.20968 | H7: 50 % | I7: 80 % | J7: 100 % | K7: mil. Kč roku 2025
